BEGIN:VCALENDAR
VERSION:2.0
PRODID:-//imariefred.nu - ECPv6.15.20//NONSGML v1.0//EN
CALSCALE:GREGORIAN
METHOD:PUBLISH
X-WR-CALNAME:imariefred.nu
X-ORIGINAL-URL:https://www.imariefred.nu
X-WR-CALDESC:Händelser för imariefred.nu
REFRESH-INTERVAL;VALUE=DURATION:PT1H
X-Robots-Tag:noindex
X-PUBLISHED-TTL:PT1H
BEGIN:VTIMEZONE
TZID:Europe/Stockholm
BEGIN:DAYLIGHT
TZOFFSETFROM:+0100
TZOFFSETTO:+0200
TZNAME:CEST
DTSTART:20250330T010000
END:DAYLIGHT
BEGIN:STANDARD
TZOFFSETFROM:+0200
TZOFFSETTO:+0100
TZNAME:CET
DTSTART:20251026T010000
END:STANDARD
BEGIN:DAYLIGHT
TZOFFSETFROM:+0100
TZOFFSETTO:+0200
TZNAME:CEST
DTSTART:20260329T010000
END:DAYLIGHT
BEGIN:STANDARD
TZOFFSETFROM:+0200
TZOFFSETTO:+0100
TZNAME:CET
DTSTART:20261025T010000
END:STANDARD
BEGIN:DAYLIGHT
TZOFFSETFROM:+0100
TZOFFSETTO:+0200
TZNAME:CEST
DTSTART:20270328T010000
END:DAYLIGHT
BEGIN:STANDARD
TZOFFSETFROM:+0200
TZOFFSETTO:+0100
TZNAME:CET
DTSTART:20271031T010000
END:STANDARD
END:VTIMEZONE
BEGIN:VEVENT
DTSTART;VALUE=DATE:20260413
DTEND;VALUE=DATE:20260514
DTSTAMP:20260426T022825
CREATED:20260407T065219Z
LAST-MODIFIED:20260407T065219Z
UID:10002606-1776038400-1778716799@www.imariefred.nu
SUMMARY:Ulvaskogens många skepnader
DESCRIPTION:Utställningen visar Ulvaskogens sagolika skönhet\, och några av de aktiviteter som genomförts för att ett naturreservat ska bildas där. \nBakom utställningen står Åkers hembygdsförening tillsammans med föreningen Rädda Ulvaskogen. \nUtställningen visas på Åkers bibliotek 13 april–13 maj\, under ordinarie öppettider.
URL:https://www.imariefred.nu/event/ulvaskogens-manga-skepnader/
LOCATION:Åkers Styckebruk\, Sverige
CATEGORIES:Konstutställning
ATTACH;FMTTYPE=image/jpeg:https://www.imariefred.nu/wp-content/uploads/2026/04/ulvaskogen-imariefred.jpg
ORGANIZER;CN="%C3%85kers bibliotek":MAILTO:akersbibliotek@strangnas.se
END:VEVENT
BEGIN:VEVENT
DTSTART;TZID=Europe/Stockholm:20260426T120000
DTEND;TZID=Europe/Stockholm:20260426T160000
DTSTAMP:20260426T022825
CREATED:20260320T134730Z
LAST-MODIFIED:20260320T134730Z
UID:10002600-1777204800-1777219200@www.imariefred.nu
SUMMARY:POM visar Klara Wikström Regan
DESCRIPTION:Scener från ett dockskåp \nKlara Wikström Regan säger: ”I denna utställning har jag arbetat intuitivt kring frågeställningar och förnimmelser av skräck\, kärlek\, förlust och öde. Målningarna utgår från uppbyggda scener av dockor och dockskåpsinteriörer\, arrangerade efter triviala möten och iakttagelser. I de små arrangemangen uppstår fragment av berättelser.” Vi hälsar Klara välkommen till sin första utställning hos oss. \nArt2Go på övervåningen. Alltid nya verk. Förälska dig och ta med dig konstverket direkt! \nVarmt välkomna\nPia och Malin \nPOM Gallery visar ny ung konst med fokus på måleri\, skulptur och textila verk. Vi följer utvecklingen på konsthögskolorna och visar utvalda konstnärer. Framtidens stjärnor! Du som besökare ges möjligheten att se en ny generation begåvade konstnärer växa fram. Kom och upplev vad samtiden erbjuder. Kittla dina sinnen. \nWebb: pomgallery.se\nInstagram: pomgallery\nFacebook: POM Gallery \nÖppet lördag – söndag 12 – 16 \nÖvriga tider enligt överenskommelse. Boka gärna tid för privat visning.
URL:https://www.imariefred.nu/event/pom-visar-klara-wikstrom-regan/2026-04-26/
LOCATION:POM Gallery\, Långgatan 11\, Mariefred\, 64730
CATEGORIES:Konstutställning
ATTACH;FMTTYPE=image/jpeg:https://www.imariefred.nu/wp-content/uploads/2026/03/kl-1.jpg
ORGANIZER;CN="POM Gallery":MAILTO:info@pomgallery.se
END:VEVENT
BEGIN:VEVENT
DTSTART;TZID=Europe/Stockholm:20260426T120000
DTEND;TZID=Europe/Stockholm:20260426T160000
DTSTAMP:20260426T022825
CREATED:20250919T064136Z
LAST-MODIFIED:20250919T064136Z
UID:10001998-1777204800-1777219200@www.imariefred.nu
SUMMARY:Söndagsbuffé på Skottvångs  grufva
DESCRIPTION:På söndagar bullar vi upp stor buffé där du får äta hur mycket du vill. Ständiga rätter varje söndag är hembakt bröd\, sillar\, lax\, kallskuret och efterrättspaj. Vi serverar alltid olika sallader (potatis-pasta- grönsallad mm)\, alltid ett urval av kallskuret och såser/röror som kompletterar. Vidare serverar vi 3-4 varmrätter (fågel\, fisk\, kött\, veg). Kaffe och måltidsdryck ingår också i priset.
URL:https://www.imariefred.nu/event/sondagsbuffe-pa-skottvangs-grufva/2026-04-26/
LOCATION:Skottvångs Grufva\, Skottvångs Grufva\, Mariefred\, 647 92
CATEGORIES:Mat,Skottvång
ATTACH;FMTTYPE=image/png:https://www.imariefred.nu/wp-content/uploads/2025/09/Sondagsbuffe_pa_Skottvang_1000x700px.png
ORGANIZER;CN="Skottv%C3%A5ngs Grufva":MAILTO:info@skottvangsgrufva.se
END:VEVENT
END:VCALENDAR