BEGIN:VCALENDAR
VERSION:2.0
PRODID:-//imariefred.nu - ECPv6.15.20//NONSGML v1.0//EN
CALSCALE:GREGORIAN
METHOD:PUBLISH
X-WR-CALNAME:imariefred.nu
X-ORIGINAL-URL:https://www.imariefred.nu
X-WR-CALDESC:Händelser för imariefred.nu
REFRESH-INTERVAL;VALUE=DURATION:PT1H
X-Robots-Tag:noindex
X-PUBLISHED-TTL:PT1H
BEGIN:VTIMEZONE
TZID:Europe/Stockholm
BEGIN:DAYLIGHT
TZOFFSETFROM:+0100
TZOFFSETTO:+0200
TZNAME:CEST
DTSTART:20250330T010000
END:DAYLIGHT
BEGIN:STANDARD
TZOFFSETFROM:+0200
TZOFFSETTO:+0100
TZNAME:CET
DTSTART:20251026T010000
END:STANDARD
BEGIN:DAYLIGHT
TZOFFSETFROM:+0100
TZOFFSETTO:+0200
TZNAME:CEST
DTSTART:20260329T010000
END:DAYLIGHT
BEGIN:STANDARD
TZOFFSETFROM:+0200
TZOFFSETTO:+0100
TZNAME:CET
DTSTART:20261025T010000
END:STANDARD
BEGIN:DAYLIGHT
TZOFFSETFROM:+0100
TZOFFSETTO:+0200
TZNAME:CEST
DTSTART:20270328T010000
END:DAYLIGHT
BEGIN:STANDARD
TZOFFSETFROM:+0200
TZOFFSETTO:+0100
TZNAME:CET
DTSTART:20271031T010000
END:STANDARD
BEGIN:DAYLIGHT
TZOFFSETFROM:+0100
TZOFFSETTO:+0200
TZNAME:CEST
DTSTART:20280326T010000
END:DAYLIGHT
BEGIN:STANDARD
TZOFFSETFROM:+0200
TZOFFSETTO:+0100
TZNAME:CET
DTSTART:20281029T010000
END:STANDARD
BEGIN:DAYLIGHT
TZOFFSETFROM:+0100
TZOFFSETTO:+0200
TZNAME:CEST
DTSTART:20290325T010000
END:DAYLIGHT
BEGIN:STANDARD
TZOFFSETFROM:+0200
TZOFFSETTO:+0100
TZNAME:CET
DTSTART:20291028T010000
END:STANDARD
BEGIN:DAYLIGHT
TZOFFSETFROM:+0100
TZOFFSETTO:+0200
TZNAME:CEST
DTSTART:20300331T010000
END:DAYLIGHT
BEGIN:STANDARD
TZOFFSETFROM:+0200
TZOFFSETTO:+0100
TZNAME:CET
DTSTART:20301027T010000
END:STANDARD
BEGIN:DAYLIGHT
TZOFFSETFROM:+0100
TZOFFSETTO:+0200
TZNAME:CEST
DTSTART:20310330T010000
END:DAYLIGHT
BEGIN:STANDARD
TZOFFSETFROM:+0200
TZOFFSETTO:+0100
TZNAME:CET
DTSTART:20311026T010000
END:STANDARD
END:VTIMEZONE
BEGIN:VEVENT
DTSTART;TZID=Europe/Stockholm:20260430T190000
DTEND;TZID=Europe/Stockholm:20260430T223000
DTSTAMP:20260420T134716
CREATED:20240421T114753Z
LAST-MODIFIED:20260420T064224Z
UID:10002611-1777575600-1777588200@www.imariefred.nu
SUMMARY:Valborgsfirande
DESCRIPTION:Varmt välkomna på årets Valborgsfirande arrangerat av Mariefreds Hembygdsförening tillsammans med Mariefreds församling\, Mariefreds båtklubb och imariefred.nu. \nProgram:  \n\nMariefreds Hembygdsförening bjuder in till kaffeservering på Callanderska gården mellan kl. 19.00-21.00\nAlla hälsas välkomna kl 21:00 utanför kyrkan. Därefter sjungs vackra vårsånger av kyrkokören Pax Mariae. Det bjuds även på traditionellt vårtal.\nVårelden tänds ca kl 21:30.
URL:https://www.imariefred.nu/event/valborgsfirande/2026-04-30/
LOCATION:Mariefreds kyrka
CATEGORIES:Familj,Firande,Valborg
ATTACH;FMTTYPE=image/png:https://www.imariefred.nu/wp-content/uploads/2024/04/VALBORG-i-Mariefred-3.png
ORGANIZER;CN="Mariefreds Hembygdsf%C3%B6rening":MAILTO:mariefredshembygdsforening@gmail.com
END:VEVENT
BEGIN:VEVENT
DTSTART;TZID=Europe/Stockholm:20270430T190000
DTEND;TZID=Europe/Stockholm:20270430T223000
DTSTAMP:20260420T134716
CREATED:20240421T114753Z
LAST-MODIFIED:20260420T064224Z
UID:10002612-1809111600-1809124200@www.imariefred.nu
SUMMARY:Valborgsfirande
DESCRIPTION:Varmt välkomna på årets Valborgsfirande arrangerat av Mariefreds Hembygdsförening tillsammans med Mariefreds församling\, Mariefreds båtklubb och imariefred.nu. \nProgram:  \n\nMariefreds Hembygdsförening bjuder in till kaffeservering på Callanderska gården mellan kl. 19.00-21.00\nAlla hälsas välkomna kl 21:00 utanför kyrkan. Därefter sjungs vackra vårsånger av kyrkokören Pax Mariae. Det bjuds även på traditionellt vårtal.\nVårelden tänds ca kl 21:30.
URL:https://www.imariefred.nu/event/valborgsfirande/2027-04-30/
LOCATION:Mariefreds kyrka
CATEGORIES:Familj,Firande,Valborg
ATTACH;FMTTYPE=image/png:https://www.imariefred.nu/wp-content/uploads/2024/04/VALBORG-i-Mariefred-3.png
ORGANIZER;CN="Mariefreds Hembygdsf%C3%B6rening":MAILTO:mariefredshembygdsforening@gmail.com
END:VEVENT
BEGIN:VEVENT
DTSTART;TZID=Europe/Stockholm:20280430T190000
DTEND;TZID=Europe/Stockholm:20280430T223000
DTSTAMP:20260420T134716
CREATED:20240421T114753Z
LAST-MODIFIED:20260420T064224Z
UID:10002613-1840734000-1840746600@www.imariefred.nu
SUMMARY:Valborgsfirande
DESCRIPTION:Varmt välkomna på årets Valborgsfirande arrangerat av Mariefreds Hembygdsförening tillsammans med Mariefreds församling\, Mariefreds båtklubb och imariefred.nu. \nProgram:  \n\nMariefreds Hembygdsförening bjuder in till kaffeservering på Callanderska gården mellan kl. 19.00-21.00\nAlla hälsas välkomna kl 21:00 utanför kyrkan. Därefter sjungs vackra vårsånger av kyrkokören Pax Mariae. Det bjuds även på traditionellt vårtal.\nVårelden tänds ca kl 21:30.
URL:https://www.imariefred.nu/event/valborgsfirande/2028-04-30/
LOCATION:Mariefreds kyrka
CATEGORIES:Familj,Firande,Valborg
ATTACH;FMTTYPE=image/png:https://www.imariefred.nu/wp-content/uploads/2024/04/VALBORG-i-Mariefred-3.png
ORGANIZER;CN="Mariefreds Hembygdsf%C3%B6rening":MAILTO:mariefredshembygdsforening@gmail.com
END:VEVENT
BEGIN:VEVENT
DTSTART;TZID=Europe/Stockholm:20290430T190000
DTEND;TZID=Europe/Stockholm:20290430T223000
DTSTAMP:20260420T134716
CREATED:20240421T114753Z
LAST-MODIFIED:20260420T064224Z
UID:10002614-1872270000-1872282600@www.imariefred.nu
SUMMARY:Valborgsfirande
DESCRIPTION:Varmt välkomna på årets Valborgsfirande arrangerat av Mariefreds Hembygdsförening tillsammans med Mariefreds församling\, Mariefreds båtklubb och imariefred.nu. \nProgram:  \n\nMariefreds Hembygdsförening bjuder in till kaffeservering på Callanderska gården mellan kl. 19.00-21.00\nAlla hälsas välkomna kl 21:00 utanför kyrkan. Därefter sjungs vackra vårsånger av kyrkokören Pax Mariae. Det bjuds även på traditionellt vårtal.\nVårelden tänds ca kl 21:30.
URL:https://www.imariefred.nu/event/valborgsfirande/2029-04-30/
LOCATION:Mariefreds kyrka
CATEGORIES:Familj,Firande,Valborg
ATTACH;FMTTYPE=image/png:https://www.imariefred.nu/wp-content/uploads/2024/04/VALBORG-i-Mariefred-3.png
ORGANIZER;CN="Mariefreds Hembygdsf%C3%B6rening":MAILTO:mariefredshembygdsforening@gmail.com
END:VEVENT
BEGIN:VEVENT
DTSTART;TZID=Europe/Stockholm:20300430T190000
DTEND;TZID=Europe/Stockholm:20300430T223000
DTSTAMP:20260420T134716
CREATED:20240421T114753Z
LAST-MODIFIED:20260420T064224Z
UID:10002615-1903806000-1903818600@www.imariefred.nu
SUMMARY:Valborgsfirande
DESCRIPTION:Varmt välkomna på årets Valborgsfirande arrangerat av Mariefreds Hembygdsförening tillsammans med Mariefreds församling\, Mariefreds båtklubb och imariefred.nu. \nProgram:  \n\nMariefreds Hembygdsförening bjuder in till kaffeservering på Callanderska gården mellan kl. 19.00-21.00\nAlla hälsas välkomna kl 21:00 utanför kyrkan. Därefter sjungs vackra vårsånger av kyrkokören Pax Mariae. Det bjuds även på traditionellt vårtal.\nVårelden tänds ca kl 21:30.
URL:https://www.imariefred.nu/event/valborgsfirande/2030-04-30/
LOCATION:Mariefreds kyrka
CATEGORIES:Familj,Firande,Valborg
ATTACH;FMTTYPE=image/png:https://www.imariefred.nu/wp-content/uploads/2024/04/VALBORG-i-Mariefred-3.png
ORGANIZER;CN="Mariefreds Hembygdsf%C3%B6rening":MAILTO:mariefredshembygdsforening@gmail.com
END:VEVENT
END:VCALENDAR