BEGIN:VCALENDAR
VERSION:2.0
PRODID:-//imariefred.nu - ECPv6.15.20//NONSGML v1.0//EN
CALSCALE:GREGORIAN
METHOD:PUBLISH
X-ORIGINAL-URL:https://www.imariefred.nu
X-WR-CALDESC:Händelser för imariefred.nu
REFRESH-INTERVAL;VALUE=DURATION:PT1H
X-Robots-Tag:noindex
X-PUBLISHED-TTL:PT1H
BEGIN:VTIMEZONE
TZID:Europe/Stockholm
BEGIN:DAYLIGHT
TZOFFSETFROM:+0100
TZOFFSETTO:+0200
TZNAME:CEST
DTSTART:20240331T010000
END:DAYLIGHT
BEGIN:STANDARD
TZOFFSETFROM:+0200
TZOFFSETTO:+0100
TZNAME:CET
DTSTART:20241027T010000
END:STANDARD
BEGIN:DAYLIGHT
TZOFFSETFROM:+0100
TZOFFSETTO:+0200
TZNAME:CEST
DTSTART:20250330T010000
END:DAYLIGHT
BEGIN:STANDARD
TZOFFSETFROM:+0200
TZOFFSETTO:+0100
TZNAME:CET
DTSTART:20251026T010000
END:STANDARD
BEGIN:DAYLIGHT
TZOFFSETFROM:+0100
TZOFFSETTO:+0200
TZNAME:CEST
DTSTART:20260329T010000
END:DAYLIGHT
BEGIN:STANDARD
TZOFFSETFROM:+0200
TZOFFSETTO:+0100
TZNAME:CET
DTSTART:20261025T010000
END:STANDARD
END:VTIMEZONE
BEGIN:VEVENT
DTSTART;TZID=Europe/Stockholm:20250207T080000
DTEND;TZID=Europe/Stockholm:20250207T160000
DTSTAMP:20260421T122408
CREATED:20250113T100036Z
LAST-MODIFIED:20250624T140830Z
UID:10001738-1738915200-1738944000@www.imariefred.nu
SUMMARY:NYBAKAT BRÖD onsdag-söndag - Gripsholms Bageri
DESCRIPTION:Nybakat hantverksbröd bakat av Linnea & Bea med lokala råvaror. \nBrödförsäljning onsdag – söndag kl. 08.00–16.00 i Gripsholms Värdshus reception.  \nVi reserverar oss för slutförsäljning och det är först till kvarn som gäller.
URL:https://www.imariefred.nu/event/nybakat-brod-fredagar-2/2025-02-07/
LOCATION:Gripsholms Värdshus\, Kyrkogatan 1\, Mariefred\, 647 30
CATEGORIES:Mat
ATTACH;FMTTYPE=image/jpeg:https://www.imariefred.nu/wp-content/uploads/2025/01/bread_image.jpg
ORGANIZER;CN="Gripsholms V%C3%A4rdshus":MAILTO:info@gripsholmsvardshus.se
END:VEVENT
BEGIN:VEVENT
DTSTART;TZID=Europe/Stockholm:20250201T140000
DTEND;TZID=Europe/Stockholm:20250201T160000
DTSTAMP:20260421T122408
CREATED:20250113T095145Z
LAST-MODIFIED:20250113T095517Z
UID:10001220-1738418400-1738425600@www.imariefred.nu
SUMMARY:Afternoon Tea på Gripsholms Värdshus
DESCRIPTION:AFTERNOON TEA  \nVälkommen till bords lördagar kl. 14.00-16.00. Njut av värdshusets smakrika och lyxiga Afternoon Tea. Välj bland delikata bakverk och matiga godsaker tillsammans med nybryggt kaffe och ett stort urval av teer i våra salonger. Boka bord och njut – varmt välkommen!\n \nSe alla datum i vår kalender! \nBoka bord på 0159-347 50 eller info@gripsholms-vardshus.se. Varmt välkomna!
URL:https://www.imariefred.nu/event/afternoon-tea-pa-gripsholms-vardshus-7/2025-02-01/
LOCATION:Gripsholms Värdshus\, Kyrkogatan 1\, Mariefred\, 647 30
ATTACH;FMTTYPE=image/jpeg:https://www.imariefred.nu/wp-content/uploads/2025/01/Afternoon-tea-gripsholms-vardshus.jpg
ORGANIZER;CN="Gripsholms V%C3%A4rdshus":MAILTO:info@gripsholmsvardshus.se
END:VEVENT
BEGIN:VEVENT
DTSTART;TZID=Europe/Stockholm:20250131T080000
DTEND;TZID=Europe/Stockholm:20250131T160000
DTSTAMP:20260421T122408
CREATED:20250113T100036Z
LAST-MODIFIED:20250624T140830Z
UID:10001737-1738310400-1738339200@www.imariefred.nu
SUMMARY:NYBAKAT BRÖD onsdag-söndag - Gripsholms Bageri
DESCRIPTION:Nybakat hantverksbröd bakat av Linnea & Bea med lokala råvaror. \nBrödförsäljning onsdag – söndag kl. 08.00–16.00 i Gripsholms Värdshus reception.  \nVi reserverar oss för slutförsäljning och det är först till kvarn som gäller.
URL:https://www.imariefred.nu/event/nybakat-brod-fredagar-2/2025-01-31/
LOCATION:Gripsholms Värdshus\, Kyrkogatan 1\, Mariefred\, 647 30
CATEGORIES:Mat
ATTACH;FMTTYPE=image/jpeg:https://www.imariefred.nu/wp-content/uploads/2025/01/bread_image.jpg
ORGANIZER;CN="Gripsholms V%C3%A4rdshus":MAILTO:info@gripsholmsvardshus.se
END:VEVENT
BEGIN:VEVENT
DTSTART;TZID=Europe/Stockholm:20250125T140000
DTEND;TZID=Europe/Stockholm:20250125T160000
DTSTAMP:20260421T122408
CREATED:20250113T095145Z
LAST-MODIFIED:20250113T095517Z
UID:10001219-1737813600-1737820800@www.imariefred.nu
SUMMARY:Afternoon Tea på Gripsholms Värdshus
DESCRIPTION:AFTERNOON TEA  \nVälkommen till bords lördagar kl. 14.00-16.00. Njut av värdshusets smakrika och lyxiga Afternoon Tea. Välj bland delikata bakverk och matiga godsaker tillsammans med nybryggt kaffe och ett stort urval av teer i våra salonger. Boka bord och njut – varmt välkommen!\n \nSe alla datum i vår kalender! \nBoka bord på 0159-347 50 eller info@gripsholms-vardshus.se. Varmt välkomna!
URL:https://www.imariefred.nu/event/afternoon-tea-pa-gripsholms-vardshus-7/2025-01-25/
LOCATION:Gripsholms Värdshus\, Kyrkogatan 1\, Mariefred\, 647 30
ATTACH;FMTTYPE=image/jpeg:https://www.imariefred.nu/wp-content/uploads/2025/01/Afternoon-tea-gripsholms-vardshus.jpg
ORGANIZER;CN="Gripsholms V%C3%A4rdshus":MAILTO:info@gripsholmsvardshus.se
END:VEVENT
BEGIN:VEVENT
DTSTART;TZID=Europe/Stockholm:20250124T080000
DTEND;TZID=Europe/Stockholm:20250124T160000
DTSTAMP:20260421T122408
CREATED:20250113T100036Z
LAST-MODIFIED:20250624T140830Z
UID:10001736-1737705600-1737734400@www.imariefred.nu
SUMMARY:NYBAKAT BRÖD onsdag-söndag - Gripsholms Bageri
DESCRIPTION:Nybakat hantverksbröd bakat av Linnea & Bea med lokala råvaror. \nBrödförsäljning onsdag – söndag kl. 08.00–16.00 i Gripsholms Värdshus reception.  \nVi reserverar oss för slutförsäljning och det är först till kvarn som gäller.
URL:https://www.imariefred.nu/event/nybakat-brod-fredagar-2/2025-01-24/
LOCATION:Gripsholms Värdshus\, Kyrkogatan 1\, Mariefred\, 647 30
CATEGORIES:Mat
ATTACH;FMTTYPE=image/jpeg:https://www.imariefred.nu/wp-content/uploads/2025/01/bread_image.jpg
ORGANIZER;CN="Gripsholms V%C3%A4rdshus":MAILTO:info@gripsholmsvardshus.se
END:VEVENT
BEGIN:VEVENT
DTSTART;TZID=Europe/Stockholm:20250117T080000
DTEND;TZID=Europe/Stockholm:20250117T160000
DTSTAMP:20260421T122408
CREATED:20250113T100036Z
LAST-MODIFIED:20250624T140830Z
UID:10001735-1737100800-1737129600@www.imariefred.nu
SUMMARY:NYBAKAT BRÖD onsdag-söndag - Gripsholms Bageri
DESCRIPTION:Nybakat hantverksbröd bakat av Linnea & Bea med lokala råvaror. \nBrödförsäljning onsdag – söndag kl. 08.00–16.00 i Gripsholms Värdshus reception.  \nVi reserverar oss för slutförsäljning och det är först till kvarn som gäller.
URL:https://www.imariefred.nu/event/nybakat-brod-fredagar-2/2025-01-17/
LOCATION:Gripsholms Värdshus\, Kyrkogatan 1\, Mariefred\, 647 30
CATEGORIES:Mat
ATTACH;FMTTYPE=image/jpeg:https://www.imariefred.nu/wp-content/uploads/2025/01/bread_image.jpg
ORGANIZER;CN="Gripsholms V%C3%A4rdshus":MAILTO:info@gripsholmsvardshus.se
END:VEVENT
END:VCALENDAR